BEGIN:VCALENDAR
VERSION:2.0
PRODID:icalendar-ruby
CALSCALE:GREGORIAN
METHOD:PUBLISH
BEGIN:VEVENT
DTSTAMP:20260424T051418Z
UID:107-2220271@calvarychapellc.com
DTSTART:20260916T170000Z
DTEND:20260916T183000Z
CLASS:PUBLIC
CREATED:20260423T191815
DESCRIPTION:Hey mommas! This group is designed for you to build community a
 mong other mothers\, and help you feel spiritually equipped and confident 
 in raising your babies! Don't forget to bring a blanket for sitting\, and 
 feel free to bring a snack for yourself!
LAST-MODIFIED:20260423T191815
LOCATION:Calvary Chapel Lincoln City
SUMMARY:Mommy & Me Bible Study
URL;VALUE=URI:https://www.calvarychapellc.com/events/mommy-me-bible-study/2
 026-09-16
ATTACH;FILENAME=Mommy_Me_Bible_Study.png;FMTTYPE=image/png:https://dq5pwpg1
 q8ru0.cloudfront.net/2026/02/08/01/46/03/bee73019-ecad-427d-9eee-1a51a38d7
 489/Mommy_Me_Bible_Study.png
END:VEVENT
END:VCALENDAR
