BEGIN:VCALENDAR
VERSION:2.0
PRODID:icalendar-ruby
CALSCALE:GREGORIAN
METHOD:PUBLISH
BEGIN:VEVENT
DTSTAMP:20260423T224756Z
UID:62-2216906@calvarychapellc.com
DTSTART:20260924T213000Z
DTEND:20260924T223000Z
CLASS:PUBLIC
CREATED:20260423T133039
DESCRIPTION:
LAST-MODIFIED:20260423T133039
LOCATION:Calvary Chapel Lincoln City
SUMMARY:Prayer Meeting
URL;VALUE=URI:https://www.calvarychapellc.com/events/prayer-meeting/2026-09
 -24
ATTACH;FILENAME=Ask_Seek_Knock.png;FMTTYPE=image/png:https://dq5pwpg1q8ru0.
 cloudfront.net/2026/02/08/02/06/14/272e7490-eac3-4251-8fd3-64f76b50a3a1/As
 k_Seek_Knock.png
END:VEVENT
END:VCALENDAR
