BEGIN:VCALENDAR
VERSION:2.0
PRODID:icalendar-ruby
CALSCALE:GREGORIAN
METHOD:PUBLISH
BEGIN:VEVENT
DTSTAMP:20260420T035132Z
UID:12-2179540@calvarychapellc.com
DTSTART:20260929T020000Z
DTEND:20260929T033000Z
CLASS:PUBLIC
CREATED:20260419T200033
DESCRIPTION:Neil's group is gathering in the evening to read and discuss th
 e Bible. 
LAST-MODIFIED:20260419T200033
LOCATION:Calvary Chapel Lincoln City
SUMMARY:Small Group with Neil
URL;VALUE=URI:https://www.calvarychapellc.com/events/small-group-with-neil/
 2026-09-28
ATTACH;FILENAME=SG_Monday_2_Sam.png;FMTTYPE=image/png:https://dq5pwpg1q8ru0
 .cloudfront.net/2026/03/22/22/45/13/0dfd616e-fb0d-4303-9e05-7f417d1db739/S
 G_Monday_2_Sam.png
END:VEVENT
END:VCALENDAR
